BEGIN:VCALENDAR
VERSION:2.0
PRODID:-//ExpressionEngine Easy iCalendar plugin//NONSGML v2.0.1//EN
X-WR-TIMEZONE:America/New_York
X-WR-CALNAME:Upcoming Auctions
BEGIN:VEVENT
UID:124837
DTSTAMP:20250106T100000
DTSTART:20250106T100000
DTEND:20250206T140000
SUMMARY:187+/- Acre Timber Investment Property in Albemarle County o
 ffered in 4 Parcels with 20 Division Rights
LOCATION:{location}
DESCRIPTION:Nestled amidst the serene beauty of Scottsville\, VA in Albem
 arle County\, lies an unparalleled opportunity to own an exqu
 isite 187-acres of land on 4 parcels with 20 division right
 s total. Once a cherished part of the illustrious 600-acre J
 efferson Mill Farm. Managed with precision and care in consu
 ltation with the VA Department of Forestry\, the timber on th
 is land is a testament to its stewardship and longevity\, off
 ering substantial current and future timber value and excell
 ent investment potential. Several potential uses are sugges
 ted\, including hunting/recreation\, timber/investment\, develo
 pment (with division rights)\, or as a quiet and beautiful sa
 nctuary on which to build your dream home. 
URL:https://www.dudleyresources.auction/auctions/detail/bw124837
SEQUENCE:1
END:VEVENT
END:VCALENDAR