BEGIN:VCALENDAR
VERSION:2.0
PRODID:-//ExpressionEngine Easy iCalendar plugin//NONSGML v2.0.1//EN
X-WR-TIMEZONE:America/New_York
X-WR-CALNAME:Upcoming Auctions
BEGIN:VEVENT
UID:129323
DTSTAMP:20250102T120000
DTSTART:20250102T120000
DTEND:20250123T140000
SUMMARY:33.25 Acres with 5 Division Rights in Albemarle County. 5885
  Brush Mountain Trl
LOCATION:5885 Brush Mountain Trl\, Covesville\, VA 22931\, US
DESCRIPTION:33.25 Acres in Albemarle County andÂ only 20 Minutes from Ch
 arlottesville\, Va.Â  Property has 5 Division Rights\, 3 Wells
  and electrical on site. Seller Financing is available withÂ
  50% down\,Â  3% fixed rate over 30 yearsÂ with no points. Wi
 th a minimum FICO score of 580. Financing directly through M
 adysons World LLC.Â For question\, please call Phil Bonnie (8
 04) 719- 4229
URL:https://www.dudleyresources.auction/auctions/detail/bw129323
SEQUENCE:1
END:VEVENT
END:VCALENDAR