BEGIN:VCALENDAR
VERSION:2.0
PRODID:-//ExpressionEngine Easy iCalendar plugin//NONSGML v2.0.1//EN
X-WR-TIMEZONE:America/New_York
X-WR-CALNAME:Upcoming Auctions
BEGIN:VEVENT
UID:133853
DTSTAMP:20250113T140000
DTSTART:20250113T140000
DTEND:20250127T110700
SUMMARY:Bankruptcy Court Ordered Complete Brewery & Taproom Equipmen
 t Liquidation
LOCATION:12912 Old Stage \, Chester\, VA 23836\, US
DESCRIPTION:By order of the US Bankruptcy Court\, we are liquidating the 
 complete contents of The Dancing Kilt  By Order Of The US B
 ankruptcy Court for the Eastern District Of Virginia Richmon
 d Division: Dancing Kilt Brewery. We Will Liquidate all asse
 ts By Online Auction Including Mobile Kitchen\, Fermentation 
 Tanks\, Brite Tanks\, Mash Tank Brewing Kettle\, Brew Glycol Ch
 iller\, Walk-In Cooler\, Kitchen Equipment\, Complete Bar\, Tapr
 oom Furniture\, Bar Accessories\, And Everything To Start Your
  Own Brewing Business.  
URL:https://www.dudleyresources.auction/auctions/detail/bw133853
SEQUENCE:1
END:VEVENT
END:VCALENDAR