BEGIN:VCALENDAR
VERSION:2.0
PRODID:-//ExpressionEngine Easy iCalendar plugin//NONSGML v2.0.1//EN
X-WR-TIMEZONE:America/New_York
X-WR-CALNAME:Upcoming Auctions
BEGIN:VEVENT
UID:135026
DTSTAMP:20250224T100000
DTSTART:20250224T100000
DTEND:20250313T150000
SUMMARY:Historic Pine Slash Estate - 10-Acre Colonial with Lake Fron
 tage & Civil War Features - Former Patrick Henry Land!
LOCATION:9275 Salem Creek Pl\, Studley\, VA 23116\, US
DESCRIPTION:*ATTENTION* NOT YOUR TYPICAL Online Auction! --- Finance an
 d Buyer Friendly Standardized Terms! --- Lender Required Ins
 pections Complete! --- Home Warranty Included! --- Fair and 
 Transparent Online Offering Platform! --- "The Home You Wan
 t at the Price You Set!"--- HISTORIC LAKEFRONT ESTATE - HAN
 OVER\, VA--- PROPERTY OVERVIEW --- • 4 beds\, 2.5 baths •
  3\,782 SF  • 10 AC • Lakefront\, Private dock • Prese
 rved Civil War entrenchments • Former Patrick Henry land -
 -- LOCATION --- Offering complete privacy in the historic Pi
 ne Slash district --- Convenient to I-95 with easy access t
 o: • Washington DC\, Alexandria\, and Arlington - approximat
 ely 2 hours • Ashland Amtrak Station - 13 miles (20 minute
 s)    
URL:https://www.dudleyresources.auction/auctions/detail/bw135026
SEQUENCE:1
END:VEVENT
END:VCALENDAR