BEGIN:VCALENDAR
VERSION:2.0
PRODID:-//ExpressionEngine Easy iCalendar plugin//NONSGML v2.0.1//EN
X-WR-TIMEZONE:America/New_York
X-WR-CALNAME:Upcoming Auctions
BEGIN:VEVENT
UID:135212
DTSTAMP:20250307T100000
DTSTART:20250307T100000
DTEND:20250325T150000
SUMMARY:Beverly Hills Charm: Stunning Cape Cod with Modern Updates -
  1117 Beverly Dr. Henrico VA 23229
LOCATION:1117 Beverly Dr.\, Henrico\, VA 23229\, US
DESCRIPTION:*ATTENTION* NOT YOUR TYPICAL Online Auction! --- Finance an
 d Buyer Friendly Standardized Terms! --- Lender Required Ins
 pections Complete! --- Home Warranty Included! --- Fair and 
 Transparent Online Offering Platform! --- "The Home You Wan
 t at the Price You Set!"--- - 2\,076 square feet - 3 bedrooms
 \, 2 full baths - Hardwood floors throughout - Living room wi
 th wood-burning fireplace - Updated kitchen with granite cou
 ntertops - Primary suite with walk-in closet - Detached gara
 ge with game room - Private fenced backyard with deck
URL:https://www.dudleyresources.auction/auctions/detail/bw135212
SEQUENCE:1
END:VEVENT
END:VCALENDAR