BEGIN:VCALENDAR
VERSION:2.0
PRODID:-//ExpressionEngine Easy iCalendar plugin//NONSGML v2.0.1//EN
X-WR-TIMEZONE:America/New_York
X-WR-CALNAME:Upcoming Auctions
BEGIN:VEVENT
UID:136148
DTSTAMP:20250226T095100
DTSTART:20250226T095100
DTEND:20250318T150000
SUMMARY:Selling for the Estate of Howard Gaines. Idyllic Country Ret
 reat: 2100 Sq. 3 Bed/3 Bath Versatile Brick Ranch on 2.46 Ac
 res With an additional 2100 Sq. Finished basement
LOCATION:525 Valley Dr\, Callao\, VA 22435\, US
DESCRIPTION:Inviting 2100 Sq. 3-bedroom\, 3-bath brick rancher on 2.46 Ac
 res. Featuring dual kitchens on the main and basement level
 s. Highlights include a wood-burning fireplace\, skylights\, a
   2100 Sq. finished walkout basement with an electric firep
 lace\, and a wet bar with a pool table. Enjoy recent updates
  (2017 roof and sump pump)\, an artesian well\, mature landsca
 ping\, two patios\, a carport\, and storage sheds. Perfect for 
 entertaining or multi-generational living.
URL:https://www.dudleyresources.auction/auctions/detail/bw136148
SEQUENCE:1
END:VEVENT
END:VCALENDAR