BEGIN:VCALENDAR
VERSION:2.0
PRODID:-//ExpressionEngine Easy iCalendar plugin//NONSGML v2.0.1//EN
X-WR-TIMEZONE:America/New_York
X-WR-CALNAME:Upcoming Auctions
BEGIN:VEVENT
UID:136232
DTSTAMP:20250227T133200
DTSTART:20250227T133200
DTEND:20250409T140000
SUMMARY:Summers County Restaurant\, Flex & Event Space: A Premier Inv
 estment Opportunity in Pipestem WV.
LOCATION:16 Baby Back Pl\, Pipestem\, WV 25979\, US
DESCRIPTION:Nestled in the breathtaking landscapes of Summers County\, WV
 \, this well-established\, remarkable 5200 Sq. restaurant at 
 16 Bbaby Back Pl in Pipestem\, WV\, represents a once-in-a-lif
 etime opportunity for restaurateurs\, entrepreneurs\, and inv
 estors alike. With its rich and successful 21-year history a
 s a beloved BBQ destination\, this property stands ready for 
 its next chapter in one of West Virginia's fastest-growing t
 ourist corridors.
URL:https://www.dudleyresources.auction/auctions/detail/bw136232
SEQUENCE:1
END:VEVENT
END:VCALENDAR