BEGIN:VCALENDAR
VERSION:2.0
PRODID:-//ExpressionEngine Easy iCalendar plugin//NONSGML v2.0.1//EN
X-WR-TIMEZONE:America/New_York
X-WR-CALNAME:Upcoming Auctions
BEGIN:VEVENT
UID:136958
DTSTAMP:20250312T094900
DTSTART:20250312T094900
DTEND:20250402T140100
SUMMARY:Renovated 3 bed/ 2.5 Bath End unit Townhouse -  5361 Gardner
  Ct. Williamsburg\, Va 23188
LOCATION:5361 Gardner ct\, Williamsburg\, VA 23188\, US
DESCRIPTION:Renovate 3-bedroom\, 2.5-bathroom\, end-unit townhouse\, offer
 ing 1\,475 sq ft of livable space. This cozy  2 story Willi
 amsburg home features a functional layout and comfortable li
 ving areas. Perfect for families seeking a well-maintained p
 roperty in a desirable community less than 1 mile from the W
 illiamsburg Outlet Mall.
URL:https://www.dudleyresources.auction/auctions/detail/bw136958
SEQUENCE:1
END:VEVENT
END:VCALENDAR