BEGIN:VCALENDAR
VERSION:2.0
PRODID:-//ExpressionEngine Easy iCalendar plugin//NONSGML v2.0.1//EN
X-WR-TIMEZONE:America/New_York
X-WR-CALNAME:Upcoming Auctions
BEGIN:VEVENT
UID:140584
DTSTAMP:20250521T120400
DTSTART:20250521T120400
DTEND:20250626T140000
SUMMARY:Prime Commercial Flex Space  Opportunity with High Daily Tra
 ffic Count: 7154 Richmond Highway\, Tappahannock VA 22560
LOCATION:7154 Richmond Tappahannock Hwy\, Tappahannock\, VA 22560\, US
DESCRIPTION:Prime\, 2-story\, Commercial building and flex space totaling
  7\,600 sq ft total with 3\,825 sq ft of heated/cooled area\, o
 n 0.75 acres with exceptional road frontage on two sides (20
 0+ ft each) on the busy Richmond-Tappahannock Highway (Route
  360) corridor\, with over 20\,000 cars passing daily
URL:https://www.dudleyresources.auction/auctions/detail/bw140584
SEQUENCE:1
END:VEVENT
END:VCALENDAR