BEGIN:VCALENDAR
VERSION:2.0
PRODID:-//ExpressionEngine Easy iCalendar plugin//NONSGML v2.0.1//EN
X-WR-TIMEZONE:America/New_York
X-WR-CALNAME:Upcoming Auctions
BEGIN:VEVENT
UID:140605
DTSTAMP:20250513T143400
DTSTART:20250513T143400
DTEND:20250708T140000
SUMMARY:Development Ready  and Commercial Space . 2151 Northumberlan
 d Hwy\, Lottsburg\, VA 22511
LOCATION:2151 Northumberland Hwy\, lottsburg\, VA 22511\, US
DESCRIPTION:This exceptional and renovated 1.12-acre commercial property
  offers immediate development potential with county-approval
  already in place. Featuring 1\,422 sq. ft. of existing full
 y renovated commercial space with prime highway frontage.
URL:https://www.dudleyresources.auction/auctions/detail/bw140605
SEQUENCE:1
END:VEVENT
END:VCALENDAR