BEGIN:VCALENDAR
VERSION:2.0
PRODID:-//ExpressionEngine Easy iCalendar plugin//NONSGML v2.0.1//EN
X-WR-TIMEZONE:America/New_York
X-WR-CALNAME:Upcoming Auctions
BEGIN:VEVENT
UID:142301
DTSTAMP:20250613T090000
DTSTART:20250613T090000
DTEND:20250624T140000
SUMMARY:Bankruptcy Court Ordered: 2022 Peterbilt 389 Sleeper Cab Roa
 d Tractor
LOCATION:{location}
DESCRIPTION:By order of the US Bankruptcy Court\, this 2022 Peterbilt 389
  Sleeper Cab Road Tractor is being offered at public auction
 . This is a unique opportunity to acquire a late-model\, low-
 mileage truck from a court-ordered sale.  
URL:https://www.dudleyresources.auction/auctions/detail/bw142301
SEQUENCE:1
END:VEVENT
END:VCALENDAR