BEGIN:VCALENDAR
VERSION:2.0
PRODID:-//ExpressionEngine Easy iCalendar plugin//NONSGML v2.0.1//EN
X-WR-TIMEZONE:America/New_York
X-WR-CALNAME:Upcoming Auctions
BEGIN:VEVENT
UID:142458
DTSTAMP:20250611T100000
DTSTART:20250611T100000
DTEND:20250625T180000
SUMMARY:Financing-Friendly Auction: Beautifully Updated Ranch Retrea
 t on Nearly 1 Acre - 5913 Willowbranch Dr\, N Chesterfield\, V
 A 23234
LOCATION:5913 Willowbranch Dr\, N Chesterfield\, VA 23234\, US
DESCRIPTION:ONLINE AUCTION - Stunning 3-bedroom\, 2-bathroom ranch home 
 on 0.92 wooded acres offering the perfect blend of modern up
 dates and peaceful privacy. This 1\,510 sq ft gem features a 
 completely renovated kitchen with soft gray cabinets and st
 ainless appliances\, plus a brick fireplace\, hardwood floors\,
  and spacious deck overlooking mature trees. Exceptional rec
 ent improvements include crawl space encapsulation (2024)\, w
 hole house plumbing (2024)\, new windows/doors (2020)\, well p
 ump system (2021)\, new roof (2018) and HVAC (2017).
URL:https://www.dudleyresources.auction/auctions/detail/bw142458
SEQUENCE:1
END:VEVENT
END:VCALENDAR