BEGIN:VCALENDAR
VERSION:2.0
PRODID:-//ExpressionEngine Easy iCalendar plugin//NONSGML v2.0.1//EN
X-WR-TIMEZONE:America/New_York
X-WR-CALNAME:Upcoming Auctions
BEGIN:VEVENT
UID:142633
DTSTAMP:20250613T090000
DTSTART:20250613T090000
DTEND:20250624T140000
SUMMARY:Vehicle & Equipment Auction
LOCATION:{location}
DESCRIPTION:LIQUIDATION OF ASSETS - ALL ITEMS SOLD PENDING APPROVAL. Thi
 s auction features a 2022 Peterbilt 389 Sleeper Cab Road Tra
 ctor (sold via bankruptcy)\, along with heavy construction eq
 uipment\, commercial trucks\, and recreational vehicles - all 
 selling to highest bidder pending approval! EQUIPMENT HIGHLI
 GHTS: Heavy Machinery: Excavators\, loaders\, dozers\, backhoes
 \, skid steers Commercial Vehicles: Dump trucks\, flatbeds\, ut
 ility trucks\, service vehicles Recreational: ATVs\, UTVs\, tra
 ilers\, specialized equipment
URL:https://www.dudleyresources.auction/auctions/detail/bw142633
SEQUENCE:1
END:VEVENT
END:VCALENDAR