BEGIN:VCALENDAR
VERSION:2.0
PRODID:-//ExpressionEngine Easy iCalendar plugin//NONSGML v2.0.1//EN
X-WR-TIMEZONE:America/New_York
X-WR-CALNAME:Upcoming Auctions
BEGIN:VEVENT
UID:52682
DTSTAMP:20201109T090000
DTSTART:20201109T090000
DTEND:20201210T140000
SUMMARY:Three Potential Residential Building Lots - Cherry Gardens N
 eighborhood - Southside RVA - 3200-3208 Delano St.\, Richmond
 \, VA 23234
LOCATION:3200-3208 Delano Street\, Richmond\, VA 23234\, US
DESCRIPTION:ONLINE AUCTION ONLY - Offered Individually & As Entirtey - M
 LS Area 50 - Three (3) Separate Tax Parcels - Combined Size:
  0.8177 Â±Â AC - Combined Assessment @ $75\,000 â€“ Combined 
 Annual Taxes @ $1\,416 - Nearby Hickory Hill Community Center
  - Easy Access - Only 4 Â±Â Miles From Manchester & Only 5 Â
 ±Â Miles From Downtown RVA
URL:https://www.dudleyresources.auction/auctions/detail/bw52682
SEQUENCE:1
END:VEVENT
END:VCALENDAR