BEGIN:VCALENDAR
VERSION:2.0
PRODID:-//ExpressionEngine Easy iCalendar plugin//NONSGML v2.0.1//EN
X-WR-TIMEZONE:America/New_York
X-WR-CALNAME:Upcoming Auctions
BEGIN:VEVENT
UID:53954
DTSTAMP:20200908T100000
DTSTART:20200908T100000
DTEND:20200908T110000
SUMMARY:LIVE Broadcast: Public Virtual Auto Auction
LOCATION:9601 Gayton Road\, Suite 207\, Henrico\, VA 23238\, US
DESCRIPTION:FEATURING: 2020 Cadillac CT5 Passenger Car - 2017 Dodge Ch
 arger Passenger Car - 2013 Ford Mustang Passenger Car - 20
 11 Chevrolet Camaro Passenger Car - 2010 Lexus LS 460 Passe
 nger Car & MORE!
URL:https://www.dudleyresources.auction/auctions/detail/bw53954
SEQUENCE:1
END:VEVENT
END:VCALENDAR