BEGIN:VCALENDAR
VERSION:2.0
PRODID:-//ExpressionEngine Easy iCalendar plugin//NONSGML v2.0.1//EN
X-WR-TIMEZONE:America/New_York
X-WR-CALNAME:Upcoming Auctions
BEGIN:VEVENT
UID:72268
DTSTAMP:20220124T115900
DTSTART:20220124T115900
DTEND:20220216T115900
SUMMARY:4 BR - 3 BTH - 3348 SF- Brick Rancher - 28219 N. James Madis
 on Hwy\, New Canton\, Va 23123
LOCATION:28219 N.James Madison Hwy\, New Canton\, VA 23123\, US
DESCRIPTION:Partially Renovated - Hardwood Floors - 1674 SF Basement - .
 67 ±  Acres
URL:https://www.dudleyresources.auction/auctions/detail/bw72268
SEQUENCE:1
END:VEVENT
END:VCALENDAR