BEGIN:VCALENDAR
VERSION:2.0
PRODID:-//ExpressionEngine Easy iCalendar plugin//NONSGML v2.0.1//EN
X-WR-TIMEZONE:America/New_York
X-WR-CALNAME:Upcoming Auctions
BEGIN:VEVENT
UID:44273
DTSTAMP:20191114T140000
DTSTART:20191114T140000
DTEND:20191114T150000
SUMMARY:Offering 11 of 12 - 0.53 AC Waterfront Residential Building 
 Lot Near Gwynn's Island - Hicksville Rd.\, Piankatank\, VA 230
 76
LOCATION:Hicksville Rd. (Parcel 16A-1-2)\, Piankatank\, VA 23076\, US
DESCRIPTION:Waterfront Residential Building Lot - Only 1.5 ± Miles To 
 Gwynn's Island Public Boat Ramp - 110 Feet Of Frontage On M
 ilford Haven Bay - Easy Access To Chesapeake Bay & Virginia
 's Historic Northern Neck Region - Address: No 911 Address 
 - Parcel ID: 16A-1-19 - Size: 0.53 ± AC - Lot Dimensions: 7
 7'x351'x110'x371' - County Land Use: Single Family Suburban 
 - Assessed @ $77\,400
URL:https://www.dudleyresources.auction/auctions/detail/offering
 -5-0.53-ac-waterfront-residential-building-lot-parce-bw44273
SEQUENCE:1
END:VEVENT
END:VCALENDAR